BEGIN:VCALENDAR
VERSION:2.0
PRODID:-//Visit Kirchheimbolanden - ECPv6.15.20//NONSGML v1.0//EN
CALSCALE:GREGORIAN
METHOD:PUBLISH
X-ORIGINAL-URL:https://visit-kirchheimbolanden.de
X-WR-CALDESC:Veranstaltungen für Visit Kirchheimbolanden
REFRESH-INTERVAL;VALUE=DURATION:PT1H
X-Robots-Tag:noindex
X-PUBLISHED-TTL:PT1H
BEGIN:VTIMEZONE
TZID:Europe/Berlin
BEGIN:DAYLIGHT
TZOFFSETFROM:+0100
TZOFFSETTO:+0200
TZNAME:CEST
DTSTART:20270328T010000
END:DAYLIGHT
BEGIN:STANDARD
TZOFFSETFROM:+0200
TZOFFSETTO:+0100
TZNAME:CET
DTSTART:20271031T010000
END:STANDARD
BEGIN:DAYLIGHT
TZOFFSETFROM:+0100
TZOFFSETTO:+0200
TZNAME:CEST
DTSTART:20280326T010000
END:DAYLIGHT
BEGIN:STANDARD
TZOFFSETFROM:+0200
TZOFFSETTO:+0100
TZNAME:CET
DTSTART:20281029T010000
END:STANDARD
BEGIN:DAYLIGHT
TZOFFSETFROM:+0100
TZOFFSETTO:+0200
TZNAME:CEST
DTSTART:20290325T010000
END:DAYLIGHT
BEGIN:STANDARD
TZOFFSETFROM:+0200
TZOFFSETTO:+0100
TZNAME:CET
DTSTART:20291028T010000
END:STANDARD
END:VTIMEZONE
BEGIN:VEVENT
DTSTART;TZID=Europe/Berlin:20280107T080000
DTEND;TZID=Europe/Berlin:20280107T130000
DTSTAMP:20260420T200200
CREATED:20250812T102456Z
LAST-MODIFIED:20250812T102816Z
UID:10000126-1830844800-1830862800@visit-kirchheimbolanden.de
SUMMARY:Wochenmarkt
DESCRIPTION:Erhalten Sie frische\, regionale Produkte von vielen Erzeugern. Hier können Sie Vieles für den täglichen Genuss einkaufen\, von Wurst und Käse über Obst und Gemüse bis hin zu regionalen Spezialitäten. Ausser an Feiertagen.
URL:https://visit-kirchheimbolanden.de/events-archiv/wochenmarkt/2028-01-07/
LOCATION:Römerplatz Kirchheimbolanden\, Römerplatz\, Kirchheimbolanden\, Rheinland-Pfalz\, 67292\, Germany
ATTACH;FMTTYPE=image/jpeg:https://visit-kirchheimbolanden.de/wp-content/uploads/2025/08/wochenmarkt_kirchheimbolanden.jpg
END:VEVENT
BEGIN:VEVENT
DTSTART;TZID=Europe/Berlin:20280114T080000
DTEND;TZID=Europe/Berlin:20280114T130000
DTSTAMP:20260420T200200
CREATED:20250812T102456Z
LAST-MODIFIED:20250812T102816Z
UID:10000127-1831449600-1831467600@visit-kirchheimbolanden.de
SUMMARY:Wochenmarkt
DESCRIPTION:Erhalten Sie frische\, regionale Produkte von vielen Erzeugern. Hier können Sie Vieles für den täglichen Genuss einkaufen\, von Wurst und Käse über Obst und Gemüse bis hin zu regionalen Spezialitäten. Ausser an Feiertagen.
URL:https://visit-kirchheimbolanden.de/events-archiv/wochenmarkt/2028-01-14/
LOCATION:Römerplatz Kirchheimbolanden\, Römerplatz\, Kirchheimbolanden\, Rheinland-Pfalz\, 67292\, Germany
ATTACH;FMTTYPE=image/jpeg:https://visit-kirchheimbolanden.de/wp-content/uploads/2025/08/wochenmarkt_kirchheimbolanden.jpg
END:VEVENT
BEGIN:VEVENT
DTSTART;TZID=Europe/Berlin:20280121T080000
DTEND;TZID=Europe/Berlin:20280121T130000
DTSTAMP:20260420T200200
CREATED:20250812T102456Z
LAST-MODIFIED:20250812T102816Z
UID:10000128-1832054400-1832072400@visit-kirchheimbolanden.de
SUMMARY:Wochenmarkt
DESCRIPTION:Erhalten Sie frische\, regionale Produkte von vielen Erzeugern. Hier können Sie Vieles für den täglichen Genuss einkaufen\, von Wurst und Käse über Obst und Gemüse bis hin zu regionalen Spezialitäten. Ausser an Feiertagen.
URL:https://visit-kirchheimbolanden.de/events-archiv/wochenmarkt/2028-01-21/
LOCATION:Römerplatz Kirchheimbolanden\, Römerplatz\, Kirchheimbolanden\, Rheinland-Pfalz\, 67292\, Germany
ATTACH;FMTTYPE=image/jpeg:https://visit-kirchheimbolanden.de/wp-content/uploads/2025/08/wochenmarkt_kirchheimbolanden.jpg
END:VEVENT
BEGIN:VEVENT
DTSTART;TZID=Europe/Berlin:20280128T080000
DTEND;TZID=Europe/Berlin:20280128T130000
DTSTAMP:20260420T200200
CREATED:20250812T102456Z
LAST-MODIFIED:20250812T102816Z
UID:10000129-1832659200-1832677200@visit-kirchheimbolanden.de
SUMMARY:Wochenmarkt
DESCRIPTION:Erhalten Sie frische\, regionale Produkte von vielen Erzeugern. Hier können Sie Vieles für den täglichen Genuss einkaufen\, von Wurst und Käse über Obst und Gemüse bis hin zu regionalen Spezialitäten. Ausser an Feiertagen.
URL:https://visit-kirchheimbolanden.de/events-archiv/wochenmarkt/2028-01-28/
LOCATION:Römerplatz Kirchheimbolanden\, Römerplatz\, Kirchheimbolanden\, Rheinland-Pfalz\, 67292\, Germany
ATTACH;FMTTYPE=image/jpeg:https://visit-kirchheimbolanden.de/wp-content/uploads/2025/08/wochenmarkt_kirchheimbolanden.jpg
END:VEVENT
END:VCALENDAR