BEGIN:VCALENDAR
VERSION:2.0
PRODID:-//Visit Kirchheimbolanden - ECPv6.15.20//NONSGML v1.0//EN
CALSCALE:GREGORIAN
METHOD:PUBLISH
X-ORIGINAL-URL:https://visit-kirchheimbolanden.de
X-WR-CALDESC:Veranstaltungen für Visit Kirchheimbolanden
REFRESH-INTERVAL;VALUE=DURATION:PT1H
X-Robots-Tag:noindex
X-PUBLISHED-TTL:PT1H
BEGIN:VTIMEZONE
TZID:Europe/Berlin
BEGIN:DAYLIGHT
TZOFFSETFROM:+0100
TZOFFSETTO:+0200
TZNAME:CEST
DTSTART:20250330T010000
END:DAYLIGHT
BEGIN:STANDARD
TZOFFSETFROM:+0200
TZOFFSETTO:+0100
TZNAME:CET
DTSTART:20251026T010000
END:STANDARD
BEGIN:DAYLIGHT
TZOFFSETFROM:+0100
TZOFFSETTO:+0200
TZNAME:CEST
DTSTART:20260329T010000
END:DAYLIGHT
BEGIN:STANDARD
TZOFFSETFROM:+0200
TZOFFSETTO:+0100
TZNAME:CET
DTSTART:20261025T010000
END:STANDARD
BEGIN:DAYLIGHT
TZOFFSETFROM:+0100
TZOFFSETTO:+0200
TZNAME:CEST
DTSTART:20270328T010000
END:DAYLIGHT
BEGIN:STANDARD
TZOFFSETFROM:+0200
TZOFFSETTO:+0100
TZNAME:CET
DTSTART:20271031T010000
END:STANDARD
END:VTIMEZONE
BEGIN:VEVENT
DTSTART;TZID=Europe/Berlin:20261002T080000
DTEND;TZID=Europe/Berlin:20261002T130000
DTSTAMP:20260419T182348
CREATED:20250812T102456Z
LAST-MODIFIED:20250812T102816Z
UID:10000060-1790928000-1790946000@visit-kirchheimbolanden.de
SUMMARY:Wochenmarkt
DESCRIPTION:Erhalten Sie frische\, regionale Produkte von vielen Erzeugern. Hier können Sie Vieles für den täglichen Genuss einkaufen\, von Wurst und Käse über Obst und Gemüse bis hin zu regionalen Spezialitäten. Ausser an Feiertagen.
URL:https://visit-kirchheimbolanden.de/events-archiv/wochenmarkt/2026-10-02/
LOCATION:Römerplatz Kirchheimbolanden\, Römerplatz\, Kirchheimbolanden\, Rheinland-Pfalz\, 67292\, Germany
ATTACH;FMTTYPE=image/jpeg:https://visit-kirchheimbolanden.de/wp-content/uploads/2025/08/wochenmarkt_kirchheimbolanden.jpg
END:VEVENT
BEGIN:VEVENT
DTSTART;TZID=Europe/Berlin:20261002T190000
DTEND;TZID=Europe/Berlin:20261002T190000
DTSTAMP:20260419T182348
CREATED:20260305T140830Z
LAST-MODIFIED:20260305T140830Z
UID:10000679-1790967600-1790967600@visit-kirchheimbolanden.de
SUMMARY:Unter Freunden Werke für Blasorchester und Chor
DESCRIPTION:Am Freitag\, 2. Oktober findet um 19 Uhr in der Paulskirche Kirchheimbolanden ein Gemeinschaftsprojekt des Musikverein Bolanden\, der Bezirkskantorei Donnersberg und des Kirchenchors Marnheim statt. Aufgeführt wird die Missa Brevis von Jacob de Haan für Chor und Blasorchester\, sowie Werke für Orgel und Blasorchester\, wie z. B. der Eingangssatz von Richard Strauss Werk „Also sprach Zarathustra“. Daniel Schneider ist am Dirigentenpult zu erleben\, Bezirkskantorin Ulrike Heubeck nimmt den Platz auf der Orgelbank ein. Das Konzert wird am Sonntag\, 4.10. um 17 Uhr wiederholt.
URL:https://visit-kirchheimbolanden.de/events-archiv/unter-freunden-werke-fuer-blasorchester-und-chor/
LOCATION:Protestantische Paulskirche\, Amtsstraße 5-7\, Kirchheimbolanden\, Rheinland-Pfalz\, 67292\, Germany
ATTACH;FMTTYPE=image/webp:https://visit-kirchheimbolanden.de/wp-content/uploads/2026/03/9_Musikverein-Bolanden.webp
ORGANIZER;CN="Protestantisches Bezirkskantorat":MAILTO:ulrike.heubeck@evkirchepfalz.de
END:VEVENT
END:VCALENDAR